BEGIN:VCALENDAR
VERSION:2.0
PRODID:icalendar-ruby
CALSCALE:GREGORIAN
METHOD:PUBLISH
BEGIN:VEVENT
DTSTAMP:20260421T190140Z
UID:158-253620@hope-central.church
DTSTART:20260625T230000Z
DTEND:20260626T000000Z
CLASS:PUBLIC
CREATED:20260413T102559
DESCRIPTION:Are you 18-30(ish) years old? Great! You know how old you are! 
 \;-P If you are in this age group and actually reading an email\, you are 
 invited to join Eric and Amanda Loewen  in the Kimball Campus Youth Room 
 for our Young Adult Ministry. Please text us if you plan to be there (320-
 492-1373) so we can plan for food and childcare.
LAST-MODIFIED:20260413T102559
LOCATION:Kimball Campus Youth Room
SUMMARY:Young Adult Ministry
URL;VALUE=URI:https://kimballchristian.church/events/young-adult-ministry/2
 026-06-25
ATTACH;FILENAME=Young Adult Ministry banner.png;FMTTYPE=image/png:https://d
 q5pwpg1q8ru0.cloudfront.net/2026/03/11/15/09/22/e6e243f0-6efe-4d1d-ab16-5c
 c7cb32bc46/Young%20Adult%20Ministry%20banner.png
END:VEVENT
END:VCALENDAR
